BEGIN:VCALENDAR
VERSION:2.0
PRODID:-//ChamberMaster//Event Calendar 2.0//EN
METHOD:PUBLISH
X-PUBLISHED-TTL:P3D
REFRESH-INTERVAL:P3D
CALSCALE:GREGORIAN
BEGIN:VEVENT
DTSTART:20250221T013000Z
DTEND:20250221T033000Z
X-MICROSOFT-CDO-ALLDAYEVENT:FALSE
SUMMARY:Business After Business sponsored by Selkirk College Trail Campus
DESCRIPTION:Celebrate local business with our "Business After Business" event hosted by the Trail & District Chamber of Commerce and sponsored by Selkirk College Trail Campus.\n\n\n\nMany of the school departments will be in attendance with displays of their courses and programs\, including the Digital Fabrication & Design (DFAB) program instructors who will be giving tours of the DFAB workspace and labs.\n\n\n\nJoin us for an evening of snacks\, celebration\, mingling\, networking\, and more!
X-ALT-DESC;FMTTYPE=text/html:<span style="font-size:16px\;">Celebrate local business with our &quot\;Business After Business&quot\; event hosted by the Trail &amp\; District Chamber of Commerce and sponsored by Selkirk College Trail Campus.<br />\n<br />\n<span style="color: rgb(34\, 34\, 34)\; background-color: rgb(255\, 255\, 255)\;">Many of the school departments will be in attendance with displays of their courses and programs\, including the Digital Fabrication &amp\; Design (DFAB) program instructors who will be giving tours of the DFAB workspace and labs.</span><br />\n<br />\nJoin us for an evening of snacks\, celebration\, mingling\, networking\, and more!</span>
LOCATION:Selkirk College Trail Campus
UID:e.2662.3309
SEQUENCE:3
DTSTAMP:20260426T030934Z
URL:https://business.trailchamber.bc.ca/events/details/business-after-business-sponsored-by-selkirk-college-trail-campus-3309
END:VEVENT

END:VCALENDAR
